BEGIN:VCALENDAR
METHOD:PUBLISH
VERSION:2.0
PRODID:-//Eventilla iCal Syndication//NONSGML Liana//EN
BEGIN:VEVENT
UID:golRM@eventilla.com
DTSTAMP:20260605T070000Z
DTSTART:20260605T070000Z
DTEND:20260605T130000Z
SUMMARY:SKAL Veteraanijäsenten päivä
DESCRIPTION:Suomen Kuljetus ja Logistiikka SKAL ry kutsuu Teidät viettämään veteraanijäsenpäivää perjantaina 5.6.2026 Seinäjoelle.\nTänä vuonna SKAL viettää 90-vuotisjuhlavuottaan.\n\nSKAL Veteraanijäsenten ja seuralaisten ohjelma \nPerjantai 5.6. Tapahtumatalo Frami B-talo (Kampusranta 9\, Seinäjoki)\nklo 9.00 Aamukahvit\nklo 10.00 Osallistuminen SKALin liittokokouksen avausosuuteen\nklo 11.00 Lounas Framissa\, Ravintola Raitin buffetlounasRetki:\nklo 12.30 Bussilla kohti Kauhavaa\, mukaan kyytiin tulee Kauhava/Härmä -opas Jyrki Lahti.\nKierroksen aikana ehditään:\n\ntutustua Iisakki Järvenpään puukkomuseoon ja tehdä ostoksia\nkäydä Lentosotakoulun alueella\nkuullaan jääkäriteemasta ja häjyistä\, kuten Rannanjärvestä\, yrittäjyydestä\nkäydä Lankavan tehtaanmyymälässä\, jossa juodaan vielä kahvit.\n\nklo 15.15  Lähtö Seinäjoen suuntaan\nklo 16.00 Bussi pysähtyy keskustassa\, päätepysäkki Framissa\n \nHintaSKAL Veteraanijäsenille maksuton 0 €Seuralaisille 30 €/hlöHinta sisältää yllä olevan ohjelman\, tarjoilut ja kuljetuksen.\nPidätämme oikeuden ohjelmamuutoksiin\nIlmoittautumiset viimeistään 4.5. \nMukaan mahtuu 48 henkilöä\, paikat jaetaan ilmoittautumisjärjestyksessä. SKALin isäntä tai emäntä on retkellä mukana.Laskutus tehdään tapahtuman jälkeen.\n \nSKALin veteraanijäsenet ovat tervetulleita myös muihin Kuljetusyrittäjäpäivien ohjelmiin. Osalllistuminen niihin vaatii etukäteen ilmoittautumisen. Ohjelmat ovat maksullisia.Tästä Kuljetusyrittäjäpäivien verkkosivulle
LOCATION:Tapahtumatalo Frami & Kauhava\, Kampusranta 9, B-talo\, 60320\,
 Seinäjoki
URL:http://tilaisuudet.skal.fi/skalveteraanipaiva26
END:VEVENT
END:VCALENDAR
