BEGIN:VCALENDAR
METHOD:PUBLISH
VERSION:2.0
PRODID:-//Eventilla iCal Syndication//NONSGML Liana//EN
BEGIN:VEVENT
UID:YM7eX@eventilla.com
DTSTAMP:20260604T210000Z
DTSTART:20260604T210000Z
DTEND:20260605T210000Z
SUMMARY:SKAL nuorten verkoston ysikytvee-etkot ja keilailuretki
DESCRIPTION:SKAL Nuorten verkostolla on omat etkot 5.6. ja keilausretki 6.6. Kuljetusyrittäjäpäivien ja liittokokouksen yhteydessä. Nähdäänhän Seinäjoelle?
LOCATION:Seinäjoki\, Suomi
URL:http://tilaisuudet.skal.fi/skal-nuorten-etkot-ja-keilaretki
END:VEVENT
END:VCALENDAR
