BEGIN:VCALENDAR
METHOD:PUBLISH
VERSION:2.0
PRODID:-//Eventilla iCal Syndication//NONSGML Liana//EN
BEGIN:VEVENT
UID:9lL8p@eventilla.com
DTSTAMP:20260506T210000Z
DTSTART:20260506T210000Z
DTEND:20260506T210000Z
SUMMARY:SKAL Liikenteessä -päivä
DESCRIPTION:Valitse sinulle sopivin tapa osallistua: Kutsu meidät kylään\, tule lounastapaamiseen St1 asemalle tai kahveille Kuljetuskuutioon Haagaan.
LOCATION:
URL:http://tilaisuudet.skal.fi/skal-liikenteessa-paiva-2026
END:VEVENT
END:VCALENDAR
