BEGIN:VCALENDAR
METHOD:PUBLISH
VERSION:2.0
PRODID:-//Eventilla iCal Syndication//NONSGML Liana//EN
BEGIN:VEVENT
UID:0eMQX@eventilla.com
DTSTAMP:20260605T053000Z
DTSTART:20260605T053000Z
DTEND:20260606T205900Z
SUMMARY:Kuljetusyrittäjäpäivät ja liittokokous 2026 - SKAL 90 vuotta
DESCRIPTION:Tervetuloa juhlavuoden Kuljetusyrittäjäpäiville ja SKAL Liittokokoukseen 5.-6.6.\nKuljetusyrittäjäpäivät kokoaa SKAL-väen ja kuljetusalan toimijat Seinäjoelle 5.–6.6.2026 juhlavuoden kunniaksi.\nTämä on viikonloppu\, jolloin ala kohtaa kasvotusten – tule sinäkin mukaan!\n\nTapahtuma starttaa perjantaina 5.6. SKALin liittokokouksella ja puheenjohtajavaalilla Tapahtumatalo Framissa. Seuralaisille on järjestetty omaa retkiohjelmaa.\nPerjantai-iltana siirrytään Seinäjoki Areenalle Kuljetusyrittäjäpäivien messu- ja verkostoitumisiltaan\, jossa pääset tutustumaan yhteistyökumppaneiden tuotteisiin ja ratkaisuihin. Esillä on uutta ja historiallista kuljetuskalustoa SKALin 90 vuoden ajalta. \nTapahtuma jatkuu lauantaina 6.6. juhlaseminaarilla ja retkillä ja huipentuu Kuljetusyrittäjägaalaan. Luvassa on aitoja tarinoita\, kokemuksia ja mieleenpainuva yhteinen juhla.\n\nVälilehdillä löydät kunkin tapahtumaosion tarkemmat tiedot ja ohjelman.\nLämpimästi tervetuloa – nämä juhlat järjestetään vain kerran 90 vuodessa! \n\nValitse sinulle sopivimmat vaihtoehdot monipuolisesta tarjonnasta ja ilmoittaudu mukaan viimeistään 4.5.2026.Voit ilmoittaa kerralla useamman henkilön. Klikkaa plus-merkistä haluamasi määrä.
LOCATION:Seinäjoki Areena\, Kirkkokatu 23\, 60320\, Seinäjoki
URL:http://tilaisuudet.skal.fi/kuljetusyrittajapaivat-ja-liittokokous-2026
END:VEVENT
END:VCALENDAR
